BEGIN:VCALENDAR
VERSION:2.0
CALSCALE:GREGORIAN
BEGIN:VEVENT
SUMMARY:NOUVEAUTÉ: CARDIO FLOW &amp; STRETCHING
DTSTART;TZID=Europe/Paris:20250619T183000
DTEND;TZID=Europe/Paris:20250619T192500
LOCATION:124 chemin du Camouyer, 06330 Roquefort-Les-Pins
DESCRIPTION: Séance dynamique où les exercices de Pilates s&amp;#039;enchaînent avec rythme et fluidité pendant 35 à 40 minutes, et se finit par une séance d&amp;#039;étirement de tout le corps.
Réservée aux élèves ayant acquis les bases du Pilates.
Durée de la séance 55 minutes.
STATUS:CONFIRMED
SEQUENCE:0
END:VEVENT
END:VCALENDAR