BEGIN:VCALENDAR
VERSION:2.0
CALSCALE:GREGORIAN
BEGIN:VEVENT
SUMMARY:Fermeture exceptionnelle jusqu&#039;a 12H30
DTSTART;TZID=Europe/Paris:20250924T090000
DTEND;TZID=Europe/Paris:20250924T120000
LOCATION:124 chemin du Camouyer, 06330 Roquefort-Les-Pins
DESCRIPTION: 
STATUS:CONFIRMED
SEQUENCE:0
END:VEVENT
END:VCALENDAR