BEGIN:VCALENDAR
VERSION:2.0
CALSCALE:GREGORIAN
BEGIN:VEVENT
SUMMARY:✨ Cours de Yoga Spécial Fin d&#039;Année : Poser ses Intentions pour 2024 ✨
DTSTART;TZID=Europe/Paris:20241226T184500
DTEND;TZID=Europe/Paris:20241226T200000
LOCATION:Yoga Searcher
DESCRIPTION: Rejoignez-moi pour une pratique en ligne unique, dédiée à clôturer cette année avec intention et à accueillir la nouvelle avec clarté. Ce cours est une invitation à prendre un moment pour soi, pour se reconnecter à son chemin et poser les bases d’une nouvelle année en harmonie avec vos aspirations profondes.

🌿 Au programme : Méditation guidée, pratique de yoga pour libérer les énergies de l’année écoulée et un exercice de réflexion pour définir des intentions alignées et puissantes pour 2024.

Ce moment de ressourcement est ouvert à tous les niveaux et se déroulera en ligne, pour que chacun puisse y participer, où que vous soyez. Venez créer un espace de calme et de renouveau, et commencez l’année à venir avec confiance et clarté.
STATUS:CONFIRMED
SEQUENCE:0
END:VEVENT
END:VCALENDAR