BEGIN:VCALENDAR
VERSION:2.0
CALSCALE:GREGORIAN
BEGIN:VEVENT
SUMMARY:Hatha en Shiva&#039;s dans
DTSTART;TZID=Europe/Amsterdam:20180121T140000
DTEND;TZID=Europe/Amsterdam:20180121T150000
LOCATION:Stille Mare
DESCRIPTION: -
STATUS:CONFIRMED
SEQUENCE:0
END:VEVENT
END:VCALENDAR