BEGIN:VCALENDAR
VERSION:2.0
CALSCALE:GREGORIAN
BEGIN:VEVENT
SUMMARY:Workshop: Natural Yoga Movement
DTSTART;TZID=Europe/Amsterdam:20180317T160000
DTEND;TZID=Europe/Amsterdam:20180317T173000
LOCATION:Stille Mare
DESCRIPTION: .
STATUS:CONFIRMED
SEQUENCE:0
END:VEVENT
END:VCALENDAR