BEGIN:VCALENDAR
VERSION:2.0
CALSCALE:GREGORIAN
BEGIN:VEVENT
SUMMARY:Ashtanga Primary Series
DTSTART;TZID=Europe/Amsterdam:20180402T093000
DTEND;TZID=Europe/Amsterdam:20180402T113000
LOCATION:Stille Mare
DESCRIPTION: .
STATUS:CONFIRMED
SEQUENCE:0
END:VEVENT
END:VCALENDAR