BEGIN:VCALENDAR
VERSION:2.0
CALSCALE:GREGORIAN
BEGIN:VEVENT
SUMMARY:Yoga Vinyasa Dynamique @ Léon Dacheux
DTSTART;TZID=Europe/Paris:20240710T193000
DTEND;TZID=Europe/Paris:20240710T203000
LOCATION:Kung Fu Strasbourg 6 Avenue Léon Dacheux
DESCRIPTION: 
STATUS:CONFIRMED
SEQUENCE:0
END:VEVENT
END:VCALENDAR