BEGIN:VCALENDAR
VERSION:2.0
CALSCALE:GREGORIAN
BEGIN:VEVENT
SUMMARY:Atelier yin yoga intersaison
DTSTART;TZID=Europe/Paris:20240302T170000
DTEND;TZID=Europe/Paris:20240302T190000
LOCATION:Mamaë, 107 rue Boecklin, 67000 Strasbourg
DESCRIPTION: [Yoga Yin de transition saisonnière le 2 mars 2024 de 17h à 19h @ Mamaë Strasbourg]
La 5ème saison : l&#039;intersaison sert à clôturer la saison précédente et à se préparer pour la suivante. Cette saison est associée à l&#039;élément de la terre.

Le yin yoga, comme toutes les formes de yoga de nos jours, a pour but de faire circuler l’énergie dans le corps pour ressentir du bien-être physique et psychique. Il se base également sur le travail des méridiens et points d&#039;énergie de la médecine chinoise.

Au programme donc : postures au sol, méditation, circulation de notre énergie par des mouvements intuitifs et des visualisations positives en lien avec le thème et l&#039;intersaison.
Nous viendrons explorer les méridiens de l&#039;intersaison : rate et estomac. 

Hâte de vous retrouver 

Des questions ? marieluzyoga@gmail.com

Conditions d&#039;inscription 
Réservation ici : https://www.momoyoga.com/marieluzyoga/lesson/19960228/atelier-yin-yoga-intersaison
30 euros les 2h
25 euros pour les détenteurs de carte marieluzyoga 12 cours et 10 cours. Réserver en cliquant sur la date indiquant le tarif réduit.
STATUS:CONFIRMED
SEQUENCE:0
END:VEVENT
END:VCALENDAR