BEGIN:VCALENDAR
VERSION:2.0
CALSCALE:GREGORIAN
BEGIN:VEVENT
SUMMARY:START TO YOGA - lessenreeks
DTSTART;TZID=Europe/Brussels:20180521T200000
DTEND;TZID=Europe/Brussels:20180521T213000
LOCATION:MASANTE Zomergem
DESCRIPTION: Tijdens deze reeks van 5 lessen wordt de tijd genomen om de belangrijkste principes van yoga te belichten. Basishoudingen worden aangeleerd, terwijl veel aandacht gaat naar de uitlijning en de ademhaling. Na enkele lessen zal je beter begrijpen wat yoga voor jou kan betekenen en waarom het zo goed voor je is.
STATUS:CONFIRMED
SEQUENCE:0
END:VEVENT
END:VCALENDAR