BEGIN:VCALENDAR
VERSION:2.0
CALSCALE:GREGORIAN
BEGIN:VEVENT
SUMMARY:Beach Iyengar Yoga
DTSTART;TZID=Pacific/Honolulu:20230902T073000
DTEND;TZID=Pacific/Honolulu:20230902T083000
LOCATION:Beachfront
DESCRIPTION: Healing the body, mind and spirit!
The instructions are slow and detailed to improve focus, posture alignment, balance, and breath awareness. In yoga, you will feel the connection to the earth, sky, mountain, ocean, and wind for all levels and ages.

Pre-register in advance.
Arrive early to prevent interruption of class.
Hydrate before class.
Turn off cell phones and pagers.
We supply mats and props.

Payment is at the studio
- 1 class $28 
- 5-class pass $120 ($24  per class) 2-month expiration
- 10-class pass $230 ($23 per class) 4-month expiration
- 20-class pass $400 ($20 per class) -5-month expiration

All sales are final and non-transferable. Please be sure to use all of the classes on your class cards by the expiration date. Class days and times are subject to change.
STATUS:CONFIRMED
SEQUENCE:0
END:VEVENT
END:VCALENDAR