BEGIN:VCALENDAR
VERSION:2.0
CALSCALE:GREGORIAN
BEGIN:VEVENT
SUMMARY:Yoga Movement
DTSTART;TZID=Pacific/Honolulu:20251002T090000
DTEND;TZID=Pacific/Honolulu:20251002T101500
LOCATION:In-Studio
DESCRIPTION: An energizing yoga flow to stretch, strengthen, balance, and relax. Guided by soulful sacred chant music, each class uplifts the body and inspires the spirit. For all levels.
STATUS:CONFIRMED
SEQUENCE:0
END:VEVENT
END:VCALENDAR