BEGIN:VCALENDAR
VERSION:2.0
CALSCALE:GREGORIAN
BEGIN:VEVENT
SUMMARY:Yoga &amp; Movement
DTSTART;TZID=Pacific/Honolulu:20251120T090000
DTEND;TZID=Pacific/Honolulu:20251120T103000
LOCATION:In-Studio
DESCRIPTION: A slow, energizing class blending asanas, body conditioning, breathwork, and music. Build strength, mobility, and balance while calming your nervous system. The class is both challenging and deeply relaxing, striking a beautiful balance that leaves you feeling energized and grounded. It’s uplifting, accessible, and fun for all levels!
STATUS:CONFIRMED
SEQUENCE:0
END:VEVENT
END:VCALENDAR