BEGIN:VCALENDAR
VERSION:2.0
CALSCALE:GREGORIAN
BEGIN:VEVENT
SUMMARY:Creatieve workshop: omgaan met emoties (6-12 jaar) boekingsinfo in kader
DTSTART;TZID=Europe/Brussels:20210908T134500
DTEND;TZID=Europe/Brussels:20210908T161500
LOCATION:.
DESCRIPTION: Te boeken bij kim@destralendester.be

Een workshop waarbij de focus ligt op:
creatief aan de slag gaan met emoties en emotionele situaties. Emoties hebben nl. belangrijke functies: ze bieden bescherming, maken behoeftes duidelijk en zorgen voor verbinding.✨
Een namiddag met gespecialiseerde begeleiding om jullie kind te laten groeien in zelfvertrouwen en te laten STRALEN.✨
Voor kinderen die:
✨ Graag creatief aan de slag gaan dmv schilderen, tekenen, met klei, enz.
✨ Op een fijne, speelse &amp; creatieve manier willen leren omgaan met hun emoties.
✨ hun eigen emoties en persoonlijkheid meer en meer willen leren kennen.
✨zich willen ontwikkelen tot een zelfbewust persoon vol zelfvertrouwen.
✨ willen leren hoe ze terug rustig kunnen worden en zich weer fijn te voelen.
Beperkt aantal plaatsen!

Ik werk met kleine groepjes omdat ik gerichte &amp; individuele aandacht aan ELK kind wil kunnen geven zodat je kind weer kan STRALEN.✨
Prijs: 60€ (incl. drankje, materialen, begeleiding, gezond tussendoortje, kindvriendelijke accommodatie,..).
STATUS:CONFIRMED
SEQUENCE:0
END:VEVENT
END:VCALENDAR