BEGIN:VCALENDAR
VERSION:2.0
CALSCALE:GREGORIAN
BEGIN:VEVENT
SUMMARY:tiener 2
DTSTART;TZID=Europe/Brussels:20211130T191500
DTEND;TZID=Europe/Brussels:20211130T201500
LOCATION:.
DESCRIPTION: inhaalles
STATUS:CONFIRMED
SEQUENCE:0
END:VEVENT
END:VCALENDAR