BEGIN:VCALENDAR
VERSION:2.0
CALSCALE:GREGORIAN
BEGIN:VEVENT
SUMMARY:Goedemorgen yoga
DTSTART;TZID=Europe/Brussels:20210419T093000
DTEND;TZID=Europe/Brussels:20210419T103000
LOCATION:.
DESCRIPTION: Start jouw week met een moment voor jezelf, om het weekend achter je te laten en in rust te beginnen. Geen spreuken meer als &quot;I hate Mondays&quot; maar eerder &quot;I love Monday mornings&quot;. Dat gevoel blijft dan hopelijk ook de hele maandag en de rest van de week doorgaan.

Deze les zal verschillen van week tot week, de ene week al meer actiever dan de andere, vaak ook afhankelijk van het moment. Laat je verrassen en ontdek deze &quot;Goedemorgen yoga&quot;

Ik kijk er naar uit je te ontmoeten op de mat!
STATUS:CONFIRMED
SEQUENCE:0
END:VEVENT
END:VCALENDAR