BEGIN:VCALENDAR
VERSION:2.0
CALSCALE:GREGORIAN
BEGIN:VEVENT
SUMMARY:Zomerkamp 7-11 jaar BINNENSTEBUITEN
DTSTART;TZID=Europe/Brussels:20210802T090000
DTEND;TZID=Europe/Brussels:20210802T160000
LOCATION:.
DESCRIPTION: De film Binnenstebuiten of inside out is een prachtige film over emoties. 
Je gaat ontdekken welke emoties er zijn en of die er allemaal mogen zijn, hoe je er mee om kan gaan en welke jou makkelijk afgaan en welke je moeilijk vindt.  
Met yoga (veel meer dan houdingen alleen), creatieve verwerking en heel veel plezier!

Opvang mogelijk vanaf 8u30-16u30
STATUS:CONFIRMED
SEQUENCE:0
END:VEVENT
END:VCALENDAR