BEGIN:VCALENDAR
VERSION:2.0
CALSCALE:GREGORIAN
BEGIN:VEVENT
SUMMARY:Rots en water 8 - 11 jaar (3 voormiddagen)
DTSTART;TZID=Europe/Brussels:20210415T093000
DTEND;TZID=Europe/Brussels:20210415T123000
LOCATION:.
DESCRIPTION: Rots en Water is een actieve groepstraining vol leuke, actieve bewegingsoefeningen waar je kan leren om stevig te staan en opkomen voor jezelf als het nodig is. Tegelijk leer je ook jezelf te beheersen en rekening houden met anderen. We trainen op blote voeten en trekken sportieve kleding aan.

Maia Van Landeghem is de docent voor deze training.
Prijs: 130€ voor de 3 voormiddagen op 14-15 en 16/04
ANNULATIE IS NIET MEER MOGELIJK VANAF 14/03, als er nieuwe maatregelen komen dan verplaatsen we de data. 
Inschrijven via info@sterkestroom.be, Maia Van Landeghem
STATUS:CONFIRMED
SEQUENCE:0
END:VEVENT
END:VCALENDAR