BEGIN:VCALENDAR
VERSION:2.0
CALSCALE:GREGORIAN
BEGIN:VEVENT
SUMMARY:Kinderyoga workshop: Het lieve woorden doosje (7-11 jaar)
DTSTART;TZID=Europe/Brussels:20210505T133000
DTEND;TZID=Europe/Brussels:20210505T160000
LOCATION:.
DESCRIPTION: Een workshop aan de hand van het boek van Wendy Traa &quot;het lieve woorden doosje&quot;
Er is een doosje in je hart, een doosje voor fijne dingen, mooie herinneringen en voor alles waar je blij van wordt! 
Creatief: Je maakt ook jouw eigen lieve woorden doosje om mee te nemen naar huis. 

Prijs voor 1 workshop: €25
Prijs bij aankoop van de 4 workshops = €90
3/04: tot rust komen met de zintuigen
5/05 Het lieve woorden doosje
2/06 Vlinder en slak, deel vlinder
23/06 vlinder en slak, deel slak
STATUS:CONFIRMED
SEQUENCE:0
END:VEVENT
END:VCALENDAR