BEGIN:VCALENDAR
VERSION:2.0
CALSCALE:GREGORIAN
BEGIN:VEVENT
SUMMARY:Babymassage (reeks van 3)
DTSTART;TZID=Europe/Brussels:20210505T093000
DTEND;TZID=Europe/Brussels:20210505T103000
LOCATION:.
DESCRIPTION: Docent voor de babymassage: Ellen Sergeant van De Babykangoeroe.

De meerdaagse workshop is bedoeld voor (groot)ouders met baby’s van 6 weken tot 9 maand.
Tijdens de les leer je de verschillende massagegrepen, haptonomisch dragen en tiltechnieken.
Er wordt telkens een thema besproken zoals darmkrampen, gebruik van de Tummy Tub, aromatherapie, rond- en roterend handelen, tiltechnieken.
Iedere deelnemer krijgt een flesje olie en een reader.

MEE TE BRENGEN:
- 2 handdoeken en/of een badcape
- Voeding voor de baby
- Verschoon spullen

Je kindje mag geen koorts hebben op de dag van de cursus en geen vaccinaties gekregen hebben 24u voorafgaand aan de massage
Is je kindje ziek en wil je toch graag meedoen? Dan kan je oefenen met een pop.
STATUS:CONFIRMED
SEQUENCE:0
END:VEVENT
END:VCALENDAR