BEGIN:VCALENDAR
VERSION:2.0
CALSCALE:GREGORIAN
BEGIN:VEVENT
SUMMARY:** Open Middag ** Prenatale &amp; Postnatale Yoga
DTSTART;TZID=Europe/Amsterdam:20230902T160000
DTEND;TZID=Europe/Amsterdam:20230902T165000
LOCATION:Yoga Shala Mayura
DESCRIPTION: 
STATUS:CONFIRMED
SEQUENCE:0
END:VEVENT
END:VCALENDAR