BEGIN:VCALENDAR
VERSION:2.0
CALSCALE:GREGORIAN
BEGIN:VEVENT
SUMMARY:Achtsamer Abend: Vollmond-Zirkel
DTSTART;TZID=Europe/Berlin:20241217T183000
DTEND;TZID=Europe/Berlin:20241217T193000
LOCATION:
DESCRIPTION: Jeder Neumond ist eine Einladung, neue Intentionen für die kommenden Wochen zu setzen und jeder Vollmond erinnert uns an die Fülle um uns herum und lädt uns ein, loszulassen, was uns nicht mehr dient. 
In dem Neumond und Vollmond Zirkel können wir gemeinsam diese besonderen Naturereignisse zelebrieren und uns von ihrer Energie inspirieren lassen. Wir werden gemeinsam meditieren, reflektieren und eine gemütliche Stunden verbringen.
STATUS:CONFIRMED
SEQUENCE:0
END:VEVENT
END:VCALENDAR