BEGIN:VCALENDAR
VERSION:2.0
CALSCALE:GREGORIAN
BEGIN:VEVENT
SUMMARY:Sommeryoga mit Jenny
DTSTART;TZID=Europe/Berlin:20250730T100000
DTEND;TZID=Europe/Berlin:20250730T110000
LOCATION:
DESCRIPTION: Jenny und ich haben für dich ein wohltuendes 6-wöchiges Sommerprogramm zusammengestellt. Jede Woche erwartet dich ein neues &amp;#34;Sommer-Thema&amp;#34; auf der Matte, verpackt in eine kreative Yogapraxis mit genug Raum für Entspannung und Verbindung mit deinem Körper und deiner Atmung. 

Die Stunden werden wöchentlich abwechselnd von Jenny und Lara unterrichtet. 

Du kannst deine Teilnahme ganz flexibel mit deiner Einzel-, 5er- oder 11er-Karte buchen oder auch online für 11€ teilnehmen. Den Link zur Zoom-Session schicken wir dir vorab zu.
STATUS:CONFIRMED
SEQUENCE:0
END:VEVENT
END:VCALENDAR