BEGIN:VCALENDAR
VERSION:2.0
CALSCALE:GREGORIAN
BEGIN:VEVENT
SUMMARY:Online und Präsenz - Sommeryoga mit Lara
DTSTART;TZID=Europe/Berlin:20250724T183000
DTEND;TZID=Europe/Berlin:20250724T193000
LOCATION:
DESCRIPTION: Diese Woche gibt es noch einen Platz in Präsenz, darüber hinaus kannst Du auch online (11€) von Zuhause oder aus dem Urlaub teilnehmen. Den Zoom Link schicken wir dir vorab zu. 
Jenny und ich haben für dich ein wohltuendes 6-wöchiges Sommerprogramm zusammengestellt. Jede Woche erwartet dich ein neues &amp;#34;Sommer-Thema&amp;#34; auf der Matte, verpackt in eine kreative Yogapraxis mit genug Raum für Entspannung und Verbindung mit deinem Körper und deiner Atmung. 

Die Stunden werden wöchentlich abwechselnd von Jenny und Lara unterrichtet.
STATUS:CONFIRMED
SEQUENCE:0
END:VEVENT
END:VCALENDAR