BEGIN:VCALENDAR
VERSION:2.0
CALSCALE:GREGORIAN
BEGIN:VEVENT
SUMMARY:Slow Flow
DTSTART;TZID=Europe/Berlin:20250826T180000
DTEND;TZID=Europe/Berlin:20250826T193000
LOCATION:
DESCRIPTION: Wir praktizieren eine fließende und entschleunigende Sequenz mit viel Raum für die Verbindung mit deinem Körper, deiner Atmung und der Bewegung. Wir verbinden längere, wohltuende Dehnungen mit sanfter Bewegung. Perfekt, um den Tag bewusst und achtsam abzuschließen.
STATUS:CONFIRMED
SEQUENCE:0
END:VEVENT
END:VCALENDAR