BEGIN:VCALENDAR
VERSION:2.0
CALSCALE:GREGORIAN
BEGIN:VEVENT
SUMMARY:Yin Yoga mit Klangbad
DTSTART;TZID=Europe/Berlin:20250905T193000
DTEND;TZID=Europe/Berlin:20250905T200000
LOCATION:
DESCRIPTION: Freue dich auf eine sanfte, wohltuende Stunde in der Du Dich den tiefen Dehnungen komplett hingeben kannst. Wir halten die Posen für mindestens 2 Minuten und verbinden uns so mit den Yin-Qualitäten der Hingabe, des Loslassen uns des Emfpangens. Diese Stunde wird von Kerstin auf Klangschalen begleitet und ermöglicht uns so, noch tiefer in unseren Körper und unsere Erfahrung einzutauchen.
STATUS:CONFIRMED
SEQUENCE:0
END:VEVENT
END:VCALENDAR