BEGIN:VCALENDAR
VERSION:2.0
CALSCALE:GREGORIAN
BEGIN:VEVENT
SUMMARY:Rückenyoga mit Jenny
DTSTART;TZID=Europe/Berlin:20250906T130000
DTEND;TZID=Europe/Berlin:20250906T133000
LOCATION:
DESCRIPTION: Freue dich auf eine wohltuende Yogastunde mit Jenny, die auf den Rücken, die Schultern und den Nacken fokussiert ist. Die Stunde ist für alle Level geeignet und beinhaltet meditative Elemente sowie fließende Sequenzen.
STATUS:CONFIRMED
SEQUENCE:0
END:VEVENT
END:VCALENDAR