BEGIN:VCALENDAR
VERSION:2.0
CALSCALE:GREGORIAN
BEGIN:VEVENT
SUMMARY:Partnerles - Workshop zwangerschapsyoga
DTSTART;TZID=Europe/Amsterdam:20250325T180000
DTEND;TZID=Europe/Amsterdam:20250325T194500
LOCATION:Praktijk Mevedic
DESCRIPTION: Deze les kan je met de losse Zwangerschapsyoga Workshop Partnerles boeken.
STATUS:CONFIRMED
SEQUENCE:0
END:VEVENT
END:VCALENDAR