BEGIN:VCALENDAR
VERSION:2.0
CALSCALE:GREGORIAN
BEGIN:VEVENT
SUMMARY:Soundhealing
DTSTART;TZID=Europe/Amsterdam:20230505T200000
DTEND;TZID=Europe/Amsterdam:20230505T220000
LOCATION:Binnen
DESCRIPTION: Bij een soundhealing maak je een reis naar binnen, naar een diepe staat van ontspanning.
Kristof begeleidt die reis met Tibetaanse en kristallen klankschalen, aangevuld met andere meditatieve instrumenten.
Je drijft weg in een diepe staat van ontspanning, op de rustige tonen en samenklanken van de instrumenten.
STATUS:CONFIRMED
SEQUENCE:0
END:VEVENT
END:VCALENDAR