BEGIN:VCALENDAR
VERSION:2.0
CALSCALE:GREGORIAN
BEGIN:VEVENT
SUMMARY:Youngster Yogis (ages 3-5)
DTSTART;TZID=America/New_York:20240817T093000
DTEND;TZID=America/New_York:20240817T101500
LOCATION:Mindful Yoga With Liz
DESCRIPTION: Get ready for a playful yoga adventure! Kids will dive into imaginative stories and fun activities while practicing balance and breathwork through exciting yoga poses. With the help of props like stuffed animals, parachutes, and delightful essential oils, children will learn to interact with their peers, develop spatial awareness, boost self-confidence, and so much more. It&#039;s a joyful journey where they&#039;ll have a blast, feel a sense of achievement, and leave relaxed and happy! 

Our Summer Series will run from 7/13 - 8/24
STATUS:CONFIRMED
SEQUENCE:0
END:VEVENT
END:VCALENDAR