BEGIN:VCALENDAR
VERSION:2.0
CALSCALE:GREGORIAN
BEGIN:VEVENT
SUMMARY:Taylor Swift: The Yoga Tour, Adult Class
DTSTART;TZID=America/New_York:20240712T173000
DTEND;TZID=America/New_York:20240712T190000
LOCATION:Mindful Yoga With Liz
DESCRIPTION: Adults come shake off the week with a Taylor Swift inspired yoga class. Prepare to move, sing along and be surrounded by fellow Swifties. Following our flow, we’ll end with snacks and making friendship bracelets
STATUS:CONFIRMED
SEQUENCE:0
END:VEVENT
END:VCALENDAR