BEGIN:VCALENDAR
VERSION:2.0
CALSCALE:GREGORIAN
BEGIN:VEVENT
SUMMARY:Youthster Yogis (ages 4-9) *must register by 1pm*
DTSTART;TZID=America/New_York:20240729T170000
DTEND;TZID=America/New_York:20240729T180000
LOCATION:Mindful Yoga With Liz
DESCRIPTION: This is a great class for siblings to do together. This age group will focus on moving through various yoga asanas (poses) and stretching exercises to help kids improve strength, flexibility, movement integration and coordination. Breathing and visualization techniques will be utilized to increase relaxation and concentration, while learning methods of self-discipline and control. Kids will leave feeling energized, self confident and happy.
STATUS:CONFIRMED
SEQUENCE:0
END:VEVENT
END:VCALENDAR