BEGIN:VCALENDAR
VERSION:2.0
CALSCALE:GREGORIAN
BEGIN:VEVENT
SUMMARY:Creative Play Yoga (ages 8 &amp; up)
DTSTART;TZID=America/New_York:20241110T091500
DTEND;TZID=America/New_York:20241110T101500
LOCATION:Mindful Yoga With Liz
DESCRIPTION: In this engaging yoga class, yogis will discover new pathways to their creativity, exercising our bodies, minds and hearts. Classes will focus on using the principles we learn from yoga and mindfulness to play and create something new. We will work with both our hands and our minds, from making traditional arts and crafts to designing new games and activities. 

The Fall Series will begin on 9/15 and end on 12/15 with a built in make up class. There will not be class Thanksgiving Weekend, 12/1
STATUS:CONFIRMED
SEQUENCE:0
END:VEVENT
END:VCALENDAR