BEGIN:VCALENDAR
VERSION:2.0
CALSCALE:GREGORIAN
BEGIN:VEVENT
SUMMARY:Youngster Yogi Adventures (3-6 years old)
DTSTART;TZID=America/New_York:20250607T100000
DTEND;TZID=America/New_York:20250607T104500
LOCATION:Mindful Yoga With Liz
DESCRIPTION: Get ready for a playful yoga adventure! Kids will dive into imaginative stories and fun activities while practicing balance and breathwork through exciting yoga poses. With the help of props like stuffed animals, parachutes, and delightful essential oils, children will learn to interact with their peers, develop spatial awareness, boost self-confidence, and so much more. It&amp;#039;s a joyful journey where they&amp;#039;ll have a blast, feel a sense of achievement, and leave relaxed and happy!

**The Spring Series will begin 4/26 and end 6/21. There will be no class on 5/24**
STATUS:CONFIRMED
SEQUENCE:0
END:VEVENT
END:VCALENDAR