BEGIN:VCALENDAR
VERSION:2.0
CALSCALE:GREGORIAN
BEGIN:VEVENT
SUMMARY:Youthster Yogis Make Up Class (combined classes)
DTSTART;TZID=America/New_York:20250412T103000
DTEND;TZID=America/New_York:20250412T113000
LOCATION:Mindful Yoga With Liz
DESCRIPTION: This is a combined class for ages 4-10. Please email Liz to sign up
STATUS:CONFIRMED
SEQUENCE:0
END:VEVENT
END:VCALENDAR