BEGIN:VCALENDAR
VERSION:2.0
CALSCALE:GREGORIAN
BEGIN:VEVENT
SUMMARY:BOYoga
DTSTART;TZID=America/New_York:20250609T161500
DTEND;TZID=America/New_York:20250609T171500
LOCATION:Mindful Yoga With Liz
DESCRIPTION: Despite what some may think, Yoga is not just for girls. There’s a reason major sports teams like the NY Giants are incorporating Yoga into their rigorous training regimens.

BOYoga is a judgement free class for boys ages 6-13 that will help develop body awareness, increase flexibility, build muscle and self esteem, manage stress and increase concentration and focus. These valuable skills will have benefits at home, school, and on the field.

**This series will run from 5/12 to 6/9 with no class on 5/26 (Memorial Day)**
STATUS:CONFIRMED
SEQUENCE:0
END:VEVENT
END:VCALENDAR