BEGIN:VCALENDAR
VERSION:2.0
CALSCALE:GREGORIAN
BEGIN:VEVENT
SUMMARY:Hatha Vinyasa sur Feet Up Saint Brévin
DTSTART;TZID=Europe/Paris:20230516T181000
DTEND;TZID=Europe/Paris:20230516T192500
LOCATION:Saint-Brévin, 12 avenue du Commerce
DESCRIPTION: Les séances de Hatha Vinyasa sur Feet Up sont des séances dynamiques et challengeantes. Elles s&#039;adressent au yogis déjà pratiquants souhaitant essayer les techniques d&#039;inversions ET aux débutants que j&#039;accompagnerai avec plaisir si leur souhait est de pratiquer un yoga sportif et tonique. Nous pratiquons ensemble le yoga au rythme de chacun-e à travers les Pranayama (respirations), les Asanas (postures de yoga), les inversions et la relaxation.
STATUS:CONFIRMED
SEQUENCE:0
END:VEVENT
END:VCALENDAR