BEGIN:VCALENDAR
VERSION:2.0
CALSCALE:GREGORIAN
BEGIN:VEVENT
SUMMARY:INITIATION FEET UP ST NAZAIRE
DTSTART;TZID=Europe/Paris:20230420T190000
DTEND;TZID=Europe/Paris:20230420T200000
LOCATION:29 rue de la Paix, 44600 Saint-Nazaire
DESCRIPTION: Séance d&#039;initiation au Vinyasa yoga sur Feet Up.
Cette pratique est une pratique dynamique et tonique axée sur les inversions. Il s&#039;agit d&#039;une manière douce et sécurisante d&#039;aborder ces postures dans laquelle la tête est en bas. 

Niveau : intermédiaire. Débutants bienvenus. Ne convient pas aux femmes enceintes. En cas de doute de vos possibilités physique, demandez conseils à votre médecin.
Tarif : 15€
Réservation : auprès de Yog&#039;N&#039;Fit au 09 83 28 16 89 ou directement sur le site internet de la boutique.
STATUS:CONFIRMED
SEQUENCE:0
END:VEVENT
END:VCALENDAR