BEGIN:VCALENDAR
VERSION:2.0
CALSCALE:GREGORIAN
BEGIN:VEVENT
SUMMARY:YOGA SOLIDAIRE
DTSTART;TZID=Europe/Paris:20230725T100000
DTEND;TZID=Europe/Paris:20230725T110000
LOCATION:Saint-Brévin, Plage de l’Ocean
DESCRIPTION: Séance de yoga tonique et douce au profit de l’association Gaynde. 

Cette séance de Hatha yoga vous est proposée sur la plage de St Brévin. J’invite le soleil à nous rejoindre, en espérant qu’il sera de la partie 🤭☀️

Gaynde est un trio féminin engagé dans un trek solidaire au Sénégal. Leur implication pour l’association Ruban Rose, qui lutte contre le cancer du sein et l’association Cap Éco Solidaire m’a touché et il me tient à cœur de participer à leur action ☺️🙏🏼

Pensez à prendre un tapis de sport / une serviette et une bouteille d’eau / une gourde. 

Adresse complète : 
Plage de Saint Brévin 
Rdv sur le parking du Pointeau
STATUS:CONFIRMED
SEQUENCE:0
END:VEVENT
END:VCALENDAR