BEGIN:VCALENDAR
VERSION:2.0
CALSCALE:GREGORIAN
BEGIN:VEVENT
SUMMARY:MomPower Hasselt
DTSTART;TZID=Europe/Brussels:20260303T183000
DTEND;TZID=Europe/Brussels:20260303T193000
LOCATION:Herkenrodebosstraat 30, Hasselt
DESCRIPTION: 
STATUS:CONFIRMED
SEQUENCE:0
END:VEVENT
END:VCALENDAR