BEGIN:VCALENDAR
VERSION:2.0
CALSCALE:GREGORIAN
BEGIN:VEVENT
SUMMARY:Morning HotFlow (60min) with Debbie Camilleri
DTSTART;TZID=Europe/Malta:20210817T070000
DTEND;TZID=Europe/Malta:20210817T080000
LOCATION:HotYogaMalta
DESCRIPTION: Morning HotFlow (60min) with Debbie Camilleri is a soft, strong and beautiful sequence of yoga postures specifically designed to jump start your day. Prepare to wake the body up, linking breath with movement to really get your energy flowing. These morning classes will leave you happier, healthier and leaner with a much more positive outlook on the day to come. All levels welcome. All this is done in a Hot room.
STATUS:CONFIRMED
SEQUENCE:0
END:VEVENT
END:VCALENDAR