BEGIN:VCALENDAR
VERSION:2.0
CALSCALE:GREGORIAN
BEGIN:VEVENT
SUMMARY:Yoga For Beginners Non-Heated with Ritianne Richardson
DTSTART;TZID=Europe/Malta:20210803T093000
DTEND;TZID=Europe/Malta:20210803T103000
LOCATION:HotYogaMalta
DESCRIPTION: There&#039;s no one size fits all in Yoga ! 
We all have our strengths and weaknesses which we should work around  rather than suppress, so learn to practice in a way that works specifically for you.
STATUS:CONFIRMED
SEQUENCE:0
END:VEVENT
END:VCALENDAR