BEGIN:VCALENDAR
VERSION:2.0
CALSCALE:GREGORIAN
BEGIN:VEVENT
SUMMARY:JE BOOST MON SYSTÈME IMMUNITAIRE AVEC LE YOGA ET NATUROPATHIE
DTSTART;TZID=Europe/Paris:20241208T090000
DTEND;TZID=Europe/Paris:20241208T120000
LOCATION:Salle Joséphine Baker Pole Culturel de Monts
DESCRIPTION: Une pratique de yoga matinale (tous niveaux)combinée avec un atelier mêlant la naturopathie (aromathérapie, gemmothérapie et phytothérapie) .
L&#039;idée est de vous donner toutes les clés pour passer un hiver en bonne santé.
Nous échangerons autour de tisanes... n&quot;hésitez pas à partager cet atelier auprès de vos amis, soeurs, frères, mères, pères, cousins, cousines, collègues, etc....
STATUS:CONFIRMED
SEQUENCE:0
END:VEVENT
END:VCALENDAR