BEGIN:VCALENDAR
VERSION:2.0
CALSCALE:GREGORIAN
BEGIN:VEVENT
SUMMARY:YIN YOGA
DTSTART;TZID=Europe/Paris:20250522T183000
DTEND;TZID=Europe/Paris:20250522T200500
LOCATION:16 rue des ormeaux
DESCRIPTION: 
STATUS:CONFIRMED
SEQUENCE:0
END:VEVENT
END:VCALENDAR