BEGIN:VCALENDAR
VERSION:2.0
CALSCALE:GREGORIAN
BEGIN:VEVENT
SUMMARY:108 saluations au yoga
DTSTART;TZID=Europe/Paris:20250622T080000
DTEND;TZID=Europe/Paris:20250622T100000
LOCATION:10 rue de la fontaine
DESCRIPTION: 
STATUS:CONFIRMED
SEQUENCE:0
END:VEVENT
END:VCALENDAR