BEGIN:VCALENDAR
VERSION:2.0
CALSCALE:GREGORIAN
BEGIN:VEVENT
SUMMARY:Calm Flow Yoga &amp; Yoga Nidra - Tilly van Genne (tvv Elize)
DTSTART;TZID=Europe/Amsterdam:20260623T190000
DTEND;TZID=Europe/Amsterdam:20260623T201500
LOCATION:ARV Achilles, Concordiaan 206, Etten-Leur
DESCRIPTION: Calm Flow Yoga &amp; Yoga Nidra: In deze les bewegen we in een rustig tempo, met ruimte om je eigen grenzen te voelen en te respecteren. Zachte, vloeiende bewegingen maken het lichaam soepeler en sterker, met aandacht voor de adem en het kalmeren van je zenuwstelsel. We sluiten af met  +/- 15 minuten Yoga Nidra waarin we lichaam en geest uitnodigen tot ontspanning.
STATUS:CONFIRMED
SEQUENCE:0
END:VEVENT
END:VCALENDAR