BEGIN:VCALENDAR
VERSION:2.0
CALSCALE:GREGORIAN
BEGIN:VEVENT
SUMMARY:Power Yoga - Christel
DTSTART;TZID=America/Curacao:20250815T083000
DTEND;TZID=America/Curacao:20250815T093000
LOCATION:
DESCRIPTION: Using the foundation of vinyasa flow to move through poses, this vigorous yoga class has an emphasis on activating your core and other large muscle groups, It combines breath with movement as it builds strength, tone, flexibility and endurance.
STATUS:CONFIRMED
SEQUENCE:0
END:VEVENT
END:VCALENDAR