BEGIN:VCALENDAR
VERSION:2.0
CALSCALE:GREGORIAN
BEGIN:VEVENT
SUMMARY:Yin Yoga - Paul Cleve (guest teacher)
DTSTART;TZID=America/Curacao:20260120T190000
DTEND;TZID=America/Curacao:20260120T201500
LOCATION:Movements
DESCRIPTION: In this guest-led session with Paul, this yin class weaves together yoga philosophy, kriya, and yin.

Paul has been a yoga teacher in Canada for nine years and holds a 200-hour YTT, plus 100 hours of Yin training and 20 hours of Kriya training. He is a retired firefighter with a daily yoga practice that includes meditation and exploring the subconscious to cultivate awareness and authenticity. He is always open to listening and guiding others on their own path.

You’re warmly welcome to join us for this experience.
STATUS:CONFIRMED
SEQUENCE:0
END:VEVENT
END:VCALENDAR