BEGIN:VCALENDAR
VERSION:2.0
CALSCALE:GREGORIAN
BEGIN:VEVENT
SUMMARY:Yoga flow - Lot @ Kura Hulanda / spa 8
DTSTART;TZID=America/Curacao:20250621T083000
DTEND;TZID=America/Curacao:20250621T093000
LOCATION:Movements
DESCRIPTION: A new space to move, breathe, and grow. Enjoy a fresh vibe, more personal classes, and the same heart-centered energy you know and love.
STATUS:CONFIRMED
SEQUENCE:0
END:VEVENT
END:VCALENDAR