BEGIN:VCALENDAR
VERSION:2.0
CALSCALE:GREGORIAN
BEGIN:VEVENT
SUMMARY:Yoga flow @ Kura Hulanda - Cathy
DTSTART;TZID=America/Curacao:20250927T083000
DTEND;TZID=America/Curacao:20250927T093000
LOCATION:Movements
DESCRIPTION: A new space to move, breathe, and grow. Enjoy a fresh vibe, more personal classes, and the same heart-centered energy you know and love.
STATUS:CONFIRMED
SEQUENCE:0
END:VEVENT
END:VCALENDAR