BEGIN:VCALENDAR
VERSION:2.0
CALSCALE:GREGORIAN
BEGIN:VEVENT
SUMMARY:Vinyāsa yoga
DTSTART;TZID=Europe/Madrid:20250625T190000
DTEND;TZID=Europe/Madrid:20250625T201500
LOCATION:mukta shala
DESCRIPTION: Clase de Vinyāsa yoga multinivel inspirada en el método de Navakaraṇa Vinyāsa donde pondremos el foco en alinear bien el cuerpo y fluir a través de una respiración consciente y potente.
STATUS:CONFIRMED
SEQUENCE:0
END:VEVENT
END:VCALENDAR